
BEGIN:VCALENDAR
VERSION:2.0
PRODID:-//Escuela de Transformación Interior Gelva - ECPv6.15.13.1//NONSGML v1.0//EN
CALSCALE:GREGORIAN
METHOD:PUBLISH
X-WR-CALNAME:Escuela de Transformación Interior Gelva
X-ORIGINAL-URL:https://www.escuelagelva.com
X-WR-CALDESC:Eventos para Escuela de Transformación Interior Gelva
REFRESH-INTERVAL;VALUE=DURATION:PT1H
X-Robots-Tag:noindex
X-PUBLISHED-TTL:PT1H
BEGIN:VTIMEZONE
TZID:America/Bogota
BEGIN:STANDARD
TZOFFSETFROM:-0500
TZOFFSETTO:-0500
TZNAME:-05
DTSTART:20250101T000000
END:STANDARD
END:VTIMEZONE
BEGIN:VEVENT
DTSTART;VALUE=DATE:20260316
DTEND;VALUE=DATE:20261006
DTSTAMP:20260422T045625
CREATED:20260114T190209Z
LAST-MODIFIED:20260114T195031Z
UID:4417-1773619200-1791244799@www.escuelagelva.com
SUMMARY:Curso Virtual en Terapia Floral (esencias florales)
DESCRIPTION:  \n\n\n🌿 Curso Virtual en Terapia Floral (esencias florales)\nEsencias florales para la salud\, la consciencia y el camino espiritual. \nEl Curso Virtual de Formación en Terapia Floral de la Escuela Gelva no está diseñado para memorizar fórmulas ni para aprender a “tratar síntomas”. Parte de una comprensión esencial: las esencias florales no son medicamentos y no pertenecen al marco clásico de la farmacología. Son preparados vibracionales de libre formulación que actúan aportando cualidades profundas allí donde algo vital está ausente en la persona. \nCuando una cualidad interna —claridad\, calma\, fuerza\, coherencia\, apertura— se ha debilitado o se ha perdido\, el cuerpo\, la mente\, las emociones o incluso el alma lo expresan en forma de malestar. Las esencias florales no quitan nada\, no suprimen procesos ni fuerzan al organismo: aportan lo que falta. Y cuando esa cualidad regresa\, el síntoma deja de ser necesario. Por eso\, la terapia floral es una herramienta extraordinaria para cultivar salud\, no para luchar contra la enfermedad. \n\n\n\n✨ Esencias florales: una acción profunda sobre mente y espíritu\nDentro de las terapias vibracionales\, las esencias florales se caracterizan por su alta frecuencia de acción\, especialmente cuando se busca trabajar en capas profundas de la mente y del campo espiritual. Esta formación permite comprender por qué\, en determinados procesos humanos\, las esencias florales resultan más adecuadas que otras herramientas terapéuticas cuando el objetivo es acompañar a la persona hacia una experiencia real de salud y coherencia interior. \nDurante el curso se desarrollará una mirada clara sobre la relación entre: \n\nEstados emocionales repetitivos\nPatrones mentales inconscientes\nBloqueos energéticos\nY su expresión física o existencial\n\nEl énfasis no está puesto en diagnosticar\, sino en observar\, comprender y acompañar conscientemente. \n\n\n\n🌸 Tres sistemas florales\, un solo propósito: salud integral\nEl programa ofrece una formación amplia y sólida a través del estudio de tres sistemas terapéuticos florales\, que permiten al estudiante contar con un verdadero abanico de posibilidades terapéuticas: \n\nSistema Floral del Dr. Edward Bach – el sistema clásico y fundacional\, orientado al trabajo emocional y al desarrollo de virtudes humanas.\nSistema Floral de Andreas Korte – una ampliación terapéutica que profundiza en dinámicas internas complejas.\nOrquídeas de la Amazonía Colombiana – un sistema floral de alta vibración\, conectado con procesos de transformación interna y consciencia.\n\nEstos sistemas no se presentan como compartimentos aislados\, sino como herramientas complementarias al servicio del acompañamiento terapéutico consciente. \n\n\n\n🕊️ Terapia floral y camino espiritual\nUno de los pilares distintivos de esta formación es un capítulo especial dedicado al uso de las esencias florales en el progreso espiritual\, diseñado exclusivamente para este curso en la Escuela Gelva. \nAquí se explora cómo las esencias florales pueden acompañar procesos de: \n\nAutoconocimiento profundo\nResponsabilidad personal\nCoherencia entre pensamiento\, emoción y acción\nUna espiritualidad práctica\, vivida y aplicada a la vida cotidiana\n\nEste enfoque no es teórico ni religioso: es experiencial\, honesto y profundamente humano. \n\n\n\n👥 ¿A quién está dirigido este curso?\nEste curso está abierto a todas las personas desde los 16 años\, sin importar su profesión\, estudios previos o experiencia terapéutica. Está dirigido tanto a quienes desean formarse como Terapeutas Florales\, como a quienes buscan una herramienta seria para su propio proceso de crecimiento y consciencia. \nNo se requieren conocimientos previos. Sí se requiere disposición a observarse\, cuestionarse y asumir responsabilidad. \n\n\n\n🎓 Certificación\nAl finalizar el programa\, el estudiante recibirá su Certificación como Terapeuta Floral\, con validez internacional\, avalando las 30 semanas de formación continua y el proceso realizado dentro de la Escuela Gelva. \n\n\n\n📌 Información general del curso\n\nInicio: 16 de marzo de 2026\nDuración: 30 semanas\nFrecuencia: 1 sesión semanal\nDía: Lunes\nHorario: 6:30 p.m. a 8:30 p.m. (hora Colombia)\nModalidad: Virtual en vivo\nCertificación: Terapeuta Floral (validez internacional)\n\n\n\n\n💰 Inversión\n\nColombia: $3.000.000 COP por persona\nMéxico (estimado): $15.000 MXN por persona\n\n\n\n\n🌱 Una formación para quienes entienden que la salud se cultiva\nEste no es un curso rápido ni superficial. Es una formación profunda para quienes comprenden que acompañar procesos humanos exige consciencia\, ética y trabajo interno. Las esencias florales\, bien comprendidas\, no prometen milagros: invitan a ver\, asumir y transformar. \n\n\n📲 Inscripciones\n¿Quieres recibir el método de inscripción y los detalles completos? \nEscríbenos por WhatsApp y te compartimos toda la información: \nWhatsApp: +57 311 257 4201 \n\n  \n\nLos Responsables Gozamos más!
URL:https://www.escuelagelva.com/evento/curso-virtual-esencias-florales/
LOCATION:Escuela de Transformación Interior Gelva\, Carrera 4 Km 1.6 vía rural a Cristo Rey\, Bochalema\, Norte de Santander\, Colombia
CATEGORIES:Retiro de sanación
ATTACH;FMTTYPE=image/jpeg:https://www.escuelagelva.com/wp-content/uploads/close-up-of-beautiful-orange-flowers-with-water-droplets-showcasing-natural-beauty-and-freshness.-33913112-scaled.jpg
END:VEVENT
BEGIN:VEVENT
DTSTART;VALUE=DATE:20260317
DTEND;VALUE=DATE:20260902
DTSTAMP:20260422T045625
CREATED:20260114T200322Z
LAST-MODIFIED:20260114T200322Z
UID:4422-1773705600-1788307199@www.escuelagelva.com
SUMMARY:Curso Virtual Chi Kung del Intelecto
DESCRIPTION:🧠 Curso Virtual de Chi Kung del Intelecto\nEntrenamiento mental\, liberación de la programación inconsciente y defensa psíquica. \nEste curso parte de una verdad que pocas formaciones se atreven a nombrar: gran parte del sufrimiento humano no es provocado por factores externos\, sino por una programación mental y emocional auto-infligida. Una “matrix” interna sostenida por el miedo\, la culpa\, la repetición de creencias heredadas y la falta de dominio sobre el propio intelecto. \nEl Chi Kung del Intelecto es una práctica diseñada para entrenar\, expandir y ordenar las capacidades mentales\, permitiendo desarmar esa programación inconsciente que se ha convertido en una cárcel de sufrimiento. No busca escapar de la realidad\, sino recuperar soberanía interna frente a ella. \n\n\n\n🔓 Salir de la cárcel mental que tú mismo has construido\nEn este entrenamiento trabajarás con herramientas orientadas a reconocer la estructura del sufrimiento mental: pensamientos repetitivos\, reacciones automáticas\, culpa\, miedo y hábitos internos que se vuelven una prisión invisible. La intención no es “pensar positivo”\, sino ver la programación y aprender a deshacerla conscientemente. \n\n\n\n✨ Chi Kung aplicado al intelecto: pensar menos\, pensar mejor\nA diferencia de enfoques que estimulan la mente sin control\, este curso utiliza herramientas específicas del Chi Kung orientadas al dominio consciente del pensamiento\, la atención sostenida y la claridad interna. \nDurante la formación aprenderás a: \n\nIdentificar patrones mentales repetitivos que drenan energía.\nDesactivar reacciones automáticas basadas en miedo y culpa.\nFortalecer la presencia mental y la capacidad de decisión.\nSalir de la confusión y del ruido interno constante.\n\nEl objetivo no es acumular información\, sino liberarte de la tiranía del pensamiento desordenado y desarrollar un intelecto funcional al bienestar\, la coherencia y la consciencia. \n\n\n\n🛡️ Defensa personal psíquica: soberanía energética y mental\nEste curso incluye un entrenamiento específico en defensa personal psíquica\, una capacidad poco desarrollada pero fundamental en un mundo saturado de estímulos\, opiniones\, cargas emocionales y tensiones externas. \nAquí no se enseña defensa física de puños y patadas. Se enseña a: \n\nGenerar barreras internas conscientes.\nConstruir atmósferas mentales y espirituales estables.\nDesarrollar blindajes energéticos frente a influencias externas.\nSostener claridad y estabilidad incluso en entornos densos o conflictivos.\n\nLa defensa psíquica no es agresión: es autoprotección consciente y dominio del propio campo interno. \n\n\n\n🌿 Una formación para sostener consciencia en la vida cotidiana\nEl Chi Kung del Intelecto no es una práctica aislada del mundo real. Está diseñado para aplicarse en relaciones\, trabajo\, toma de decisiones y momentos de presión. \nDurante las 20 semanas de formación\, mantendremos el contacto y el acompañamiento para sostener procesos de: \n\nElevación de la consciencia.\nFortalecimiento del criterio interno.\nAutonomía mental y emocional.\nResponsabilidad personal frente al propio sufrimiento.\n\nEste curso no promete iluminación instantánea. Ofrece herramientas reales para dejar de auto-sabotearte. \n\n\n\n👥 ¿A quién está dirigido este curso?\nEste programa está abierto a todas las personas\, sin importar edad\, profesión o experiencia previa. No se requieren conocimientos anteriores en Chi Kung ni en prácticas energéticas. \nEstá dirigido a: \n\nPersonas que sienten agotamiento mental constante.\nQuienes desean salir de patrones repetitivos de sufrimiento.\nBuscadores de una espiritualidad práctica y aplicada.\nPersonas sensibles a la carga emocional del entorno.\nQuienes quieren desarrollar claridad\, protección y soberanía interna.\n\nPuedes tomarlo tú\, o invitar a amigos y familiares que estén listos para asumir responsabilidad sobre su mente. \n\n\n\n📌 Información general del curso\n\nInicio: Martes 17 de marzo de 2026\nDuración: 20 semanas\nFrecuencia: 1 sesión semanal\nDía: Martes\nHorario: 6:30 p.m. a 8:30 p.m. (hora Colombia)\nModalidad: Virtual en vivo\nFecha finalización: Septiembre 1 de 2026\n\n\n\n\n💰 Inversión\n\nColombia: $2.000.000 COP\nMéxico: $ 10.000 MXN\n\n\n\n\n🧠 Una invitación a recuperar dominio interno\nEl Chi Kung del Intelecto no busca hacerte más especial ni más poderoso que otros. Busca algo mucho más profundo: que dejes de ser víctima de tu propia mente. \nCuando el intelecto se ordena\, la energía se libera.Cuando la consciencia se eleva\, el sufrimiento pierde poder. \n\n\n📲 Inscripciones\n¿Quieres recibir el método de inscripción y los detalles completos? \nEscríbenos por WhatsApp y te compartimos toda la información: \nWhatsApp: +57 311 257 4201 \n\n  \n\nLos Responsables Gozamos más!
URL:https://www.escuelagelva.com/evento/curso-virtual-chi-kung-del-intelecto/
LOCATION:Escuela de Transformación Interior Gelva\, Carrera 4 Km 1.6 vía rural a Cristo Rey\, Bochalema\, Norte de Santander\, Colombia
CATEGORIES:Retiro de sanación
ATTACH;FMTTYPE=image/jpeg:https://www.escuelagelva.com/wp-content/uploads/buddha-head-sculpture-surrounded-by-lush-green-plants-in-outdoor-setting-ho-chi-minh-city.-35645706-scaled.jpg
END:VEVENT
END:VCALENDAR