
BEGIN:VCALENDAR
VERSION:2.0
PRODID:-//Escuela de Transformación Interior Gelva - ECPv6.15.13.1//NONSGML v1.0//EN
CALSCALE:GREGORIAN
METHOD:PUBLISH
X-WR-CALNAME:Escuela de Transformación Interior Gelva
X-ORIGINAL-URL:https://www.escuelagelva.com
X-WR-CALDESC:Eventos para Escuela de Transformación Interior Gelva
REFRESH-INTERVAL;VALUE=DURATION:PT1H
X-Robots-Tag:noindex
X-PUBLISHED-TTL:PT1H
BEGIN:VTIMEZONE
TZID:America/Bogota
BEGIN:STANDARD
TZOFFSETFROM:-0500
TZOFFSETTO:-0500
TZNAME:-05
DTSTART:20240101T000000
END:STANDARD
END:VTIMEZONE
BEGIN:VEVENT
DTSTART;TZID=America/Bogota:20250117T080000
DTEND;TZID=America/Bogota:20250119T170000
DTSTAMP:20260422T180945
CREATED:20250128T154248Z
LAST-MODIFIED:20250226T134119Z
UID:3455-1737100800-1737306000@www.escuelagelva.com
SUMMARY:Conversatorio con el Maestro Gelva. Viviendo en la 5D. Deshacer la Matrix 3D y Ley Gesara
DESCRIPTION:Los Conversatorios con el Maestro Gelva son una serie de reuniones mensuales y presenciales\, donde el Maestro Gelva comparte su sabiduría\, experiencia y entendimiento sobre diversos temas relacionados con la espiritualidad\, el crecimiento personal\, la salud\, el mundo como lo percibimos\, la sanación\, entre otros. \n\n\n\nPara esta ocasión\, analizaremos preguntas de ¿Si existe una realidad más allá de lo que percibimos?\, exploraremos los conceptos de las dimensiones\, la tercera a la quinta dimensión; un estado de conciencia superior caracterizado por la unidad\, el amor incondicional y la abundancia. \n\n\n\n\nHablaremos sobre cómo la matriz 3D\, representada por sistemas de creencias limitantes y estructuras de poder\, nos ha mantenido atrapados en una realidad dual y cómo podemos liberarnos de ella. Además\, analizaremos la Ley GESARA\, una propuesta de reforma financiera global que promete poner fin a la corrupción y establecer una nueva era de prosperidad para todos. \n\n\n\n\n\n\nÚnete a nosotros para comprender cómo estos conceptos se relacionan y cómo podemos co-crear un mundo más justo y equitativo. \n\n\n\n\n\nEstos conversatorios están abiertos a todas las personas interesadas en profundizar en estos temas\, aprender de su experiencia\, transformar su realidad y sanar con su palabra. \n\n\n\nLugar\n\n\n\nEscuela Gelva en Bochalema \n\n\n\nIncluye\n\n\n\n\nAlojamiento (acomodación múltiple separados por géneros)\,\n\n\n\nAlimentación completa (vegetariana)\,\n\n\n\nActividades propias del retiro.\n\n\n\n\n 
URL:https://www.escuelagelva.com/evento/conversatorio-con-el-maestro-gelva-viviendo-en-la-5d-deshacer-la-matrix-3d-y-ley-gesara/
LOCATION:Norte de Santander
CATEGORIES:Conversatorios
ATTACH;FMTTYPE=image/jpeg:https://www.escuelagelva.com/wp-content/uploads/lases-virtuales-de-educacion-continuada_desarrollo-del-ser_escuela-gelva2.jpg
END:VEVENT
END:VCALENDAR