
BEGIN:VCALENDAR
VERSION:2.0
PRODID:-//Escuela de Transformación Interior Gelva - ECPv6.15.13.1//NONSGML v1.0//EN
CALSCALE:GREGORIAN
METHOD:PUBLISH
X-ORIGINAL-URL:https://www.escuelagelva.com
X-WR-CALDESC:Eventos para Escuela de Transformación Interior Gelva
REFRESH-INTERVAL;VALUE=DURATION:PT1H
X-Robots-Tag:noindex
X-PUBLISHED-TTL:PT1H
BEGIN:VTIMEZONE
TZID:America/Bogota
BEGIN:STANDARD
TZOFFSETFROM:-0500
TZOFFSETTO:-0500
TZNAME:-05
DTSTART:20240101T000000
END:STANDARD
END:VTIMEZONE
BEGIN:VEVENT
DTSTART;VALUE=DATE:20250411
DTEND;VALUE=DATE:20250414
DTSTAMP:20260422T131622
CREATED:20250202T211027Z
LAST-MODIFIED:20250226T134044Z
UID:3592-1744329600-1744588799@www.escuelagelva.com
SUMMARY:Conversatorio con el Maestro Gelva. Tema: Seres Galácticos e Intra-terrenos
DESCRIPTION:Los Conversatorios con el Maestro Gelva son una serie de reuniones mensuales y presenciales\, donde el Maestro Gelva comparte su sabiduría\, experiencia y entendimiento sobre diversos temas relacionados con la espiritualidad\, el crecimiento personal\, la salud\, el mundo como lo percibimos\, la sanación\, entre otros. \nPara esta ocasión\, hablaremos de los Seres Galácticos e los Intra-terrenos. ¿Que es un ser humano? ¿que es un ser terricola? ¿Hay vida en otros planetas? ¿Hay vida en el interior de los planetas? si es asi ¿son nuestros aliados?  ¿que tenemos que ver con ellos y cúal el es plan divino que nos corresponde a todos? Y mucho más.  \n\n\n \n\n\n \n\nÚnete a nosotros para comprender cómo estos conceptos se relacionan y cómo podemos co-crear un mundo mejor\, más justo y equitativo. \n\n\n\n\n\n \nEstos conversatorios están abiertos a todas las personas interesadas en profundizar en estos temas\, aprender de su experiencia\, transformar su realidad y sanar con su palabra. \n\n\n \nLugar\n\n\n \nEscuela Gelva en Bochalema \n\n\n \nIncluye\n\n\n \n\nAlojamiento (acomodación múltiple separados por géneros)\,\n\n\n\nAlimentación completa (vegetariana)\,\n\n\n\nActividades propias del retiro.
URL:https://www.escuelagelva.com/evento/conversatorio-con-el-maestro-gelva-tema-seres-galacticos-e-intra-terrenos/
LOCATION:Escuela de Transformación Interior Gelva\, Carrera 4 Km 1.6 vía rural a Cristo Rey\, Bochalema\, Norte de Santander\, Colombia
CATEGORIES:Conversatorios
ATTACH;FMTTYPE=image/jpeg:https://www.escuelagelva.com/wp-content/uploads/lases-virtuales-de-educacion-continuada_desarrollo-del-ser_escuela-gelva2.jpg
END:VEVENT
END:VCALENDAR