
BEGIN:VCALENDAR
VERSION:2.0
PRODID:-//Escuela de Transformación Interior Gelva - ECPv6.15.13.1//NONSGML v1.0//EN
CALSCALE:GREGORIAN
METHOD:PUBLISH
X-ORIGINAL-URL:https://www.escuelagelva.com
X-WR-CALDESC:Eventos para Escuela de Transformación Interior Gelva
REFRESH-INTERVAL;VALUE=DURATION:PT1H
X-Robots-Tag:noindex
X-PUBLISHED-TTL:PT1H
BEGIN:VTIMEZONE
TZID:America/Bogota
BEGIN:STANDARD
TZOFFSETFROM:-0500
TZOFFSETTO:-0500
TZNAME:-05
DTSTART:20240101T000000
END:STANDARD
END:VTIMEZONE
BEGIN:VEVENT
DTSTART;VALUE=DATE:20250516
DTEND;VALUE=DATE:20250519
DTSTAMP:20260422T114844
CREATED:20250414T222337Z
LAST-MODIFIED:20250414T224219Z
UID:4161-1747353600-1747612799@www.escuelagelva.com
SUMMARY:Conversatorio con el Maestro Gelva. Tema: La Red Cristalina
DESCRIPTION:Los Conversatorios con el Maestro Gelva son una serie de reuniones mensuales y presenciales\, donde el Maestro Gelva comparte su sabiduría\, experiencia y entendimiento sobre diversos temas relacionados con la espiritualidad\, el crecimiento personal\, la salud\, el mundo como lo percibimos\, la sanación\, entre otros. \nPara esta ocasión\, hablaremos de la red cristalina\, una estructura energética-vibracional diseñada para liberar a la humanidad de la esclavitud. Esta red promueve la elevación de la conciencia colectiva mediante el amor\, la unidad y la reconexión con el "Yo Superior"\, contrarrestando las bajas frecuencias de miedo y manipulación que mantienen a los humanos atrapados en la tercera dimensión. Su activación depende del conocimiento y difusión de La Verdad. Una red que se fortalece a través de la transformación individual y colectiva\, respetando el libre albedrío\, y está vinculada a la ascensión planetaria hacia la quinta dimensión (5D)\, donde la humanidad puede evolucionar espiritualmente en armonía. Y mucho más.  \n\n\n \n\n\n \n\nÚnete a nosotros para comprender cómo estos conceptos se relacionan y cómo podemos co-crear un mundo mejor\, más justo y equitativo. \n\n\n\n\n\n \nEstos conversatorios están abiertos a todas las personas interesadas en profundizar en estos temas\, aprender de su experiencia\, transformar su realidad y sanar con su palabra. \n\n\n \nLugar\n\n\n \nEscuela Gelva en Bochalema \n\n\n \nIncluye\n\n\n \n\nAlojamiento (acomodación múltiple separados por géneros)\,\n\n\n\nAlimentación completa (vegetariana)\,\n\n\n\nActividades propias del retiro.
URL:https://www.escuelagelva.com/evento/conversatorio-con-el-maestro-gelva-tema-la-red-cristalina/
LOCATION:Escuela de Transformación Interior Gelva\, Carrera 4 Km 1.6 vía rural a Cristo Rey\, Bochalema\, Norte de Santander\, Colombia
CATEGORIES:Conversatorios
ATTACH;FMTTYPE=image/jpeg:https://www.escuelagelva.com/wp-content/uploads/conversatorios-con-el-Maestro_clases-de-filosofia-y-espiritualidad_la-red-cristalina-escuela-gelva.jpg
END:VEVENT
END:VCALENDAR