
BEGIN:VCALENDAR
VERSION:2.0
PRODID:-//Escuela de Transformación Interior Gelva - ECPv6.15.13.1//NONSGML v1.0//EN
CALSCALE:GREGORIAN
METHOD:PUBLISH
X-ORIGINAL-URL:https://www.escuelagelva.com
X-WR-CALDESC:Eventos para Escuela de Transformación Interior Gelva
REFRESH-INTERVAL;VALUE=DURATION:PT1H
X-Robots-Tag:noindex
X-PUBLISHED-TTL:PT1H
BEGIN:VTIMEZONE
TZID:America/Bogota
BEGIN:STANDARD
TZOFFSETFROM:-0500
TZOFFSETTO:-0500
TZNAME:-05
DTSTART:20240101T000000
END:STANDARD
END:VTIMEZONE
BEGIN:VEVENT
DTSTART;VALUE=DATE:20250829
DTEND;VALUE=DATE:20250901
DTSTAMP:20260422T073123
CREATED:20250614T170213Z
LAST-MODIFIED:20250616T222410Z
UID:4229-1756425600-1756684799@www.escuelagelva.com
SUMMARY:Conversatorio con el Maestro Gelva. Tema: El Amor y la experiencia de Amar
DESCRIPTION:Los Conversatorios con el Maestro Gelva son una serie de reuniones mensuales y presenciales\, donde el Maestro Gelva comparte su sabiduría\, experiencia y entendimiento sobre diversos temas relacionados con la espiritualidad\, el crecimiento personal\, la salud\, el mundo como lo percibimos\, la sanación\, entre otros. \nPara esta ocasión\, hablaremos El Amor y la experiencia de Amar.\n\nExplora la experiencia más pura y transformadora del Ser\, para convertir el amor en una experiencia vivida\, no solo en un concepto.\nPara sanar heridas emocionales profundas mediante la conciencia.\nPara activar en ti la capacidad de amar sin condiciones: a ti mismo\, a los demás\, a la existencia.\n\n¿A quién está dirigida?\nEsta charla es para ti si: \n\nHas sentido que algo te impide amar plenamente.\nSientes que el amor se quedó en lo romántico o lo poético\, y buscas algo real.\nQuieres aprender a no hacerte daño\, a despertar el niño interior y ser feliz con la felicidad del otro.\nSientes que amar puede ser práctico\, sanador y revolucionario.\n\n¿Qué vas a vivir?\n\nReflexionarás sobre cómo el lenguaje y las acciones comunes limitan al amor y cómo ir más allá.\nAcompañarás al Maestro en un tránsito profundo desde el ego al corazón\, a través de ejemplos claros y sentidos.\nDescubrirás las señales verdaderas del amor que transforman de adentro hacia afuera.y más.\n\n\nTe invitamos a venir con el corazón abierto\, dejando el miedo y la culpa en la puerta.Ven a sentir en comunidad lo que tantas veces hemos intentado “entender” sin permitir que el amor nos enseñe.Que tus ganas sean más hondas que las excusas del ego. \n\n\nY además:\n\nEspacio para preguntas desde el corazón.\nConexión cálida con los demás asistentes\, estudiantes\, pacientes y terapeutas de la Escuela.\nOportunidad de seguir profundizando en nuestra Escuela\n\n\n\n\n\n \nEstos conversatorios están abiertos a todas las personas interesadas en profundizar en estos temas\, aprender de su experiencia\, transformar su realidad y sanar con su palabra. \n\n\n \nLugar\n\n\n \nEscuela Gelva en Bochalema \n\n\n \nIncluye\n\n\n \n\nAlojamiento (acomodación múltiple separados por géneros)\,\n\n\n\nAlimentación completa (vegetariana)\,\n\n\n\nActividades propias del retiro.
URL:https://www.escuelagelva.com/evento/conversatorio-con-el-maestro-gelva-tema-el-amor-y-la-experiencia-de-amar/
LOCATION:Escuela de Transformación Interior Gelva\, Carrera 4 Km 1.6 vía rural a Cristo Rey\, Bochalema\, Norte de Santander\, Colombia
CATEGORIES:Conversatorios,karma
ATTACH;FMTTYPE=image/jpeg:https://www.escuelagelva.com/wp-content/uploads/conversatorios-con-el-Maestro_clases-de-filosofia-y-espiritualidad_que-es-amar-escuela-gelva.jpg
END:VEVENT
END:VCALENDAR