
BEGIN:VCALENDAR
VERSION:2.0
PRODID:-//Escuela de Transformación Interior Gelva - ECPv6.15.13.1//NONSGML v1.0//EN
CALSCALE:GREGORIAN
METHOD:PUBLISH
X-WR-CALNAME:Escuela de Transformación Interior Gelva
X-ORIGINAL-URL:https://www.escuelagelva.com
X-WR-CALDESC:Eventos para Escuela de Transformación Interior Gelva
REFRESH-INTERVAL;VALUE=DURATION:PT1H
X-Robots-Tag:noindex
X-PUBLISHED-TTL:PT1H
BEGIN:VTIMEZONE
TZID:America/Bogota
BEGIN:STANDARD
TZOFFSETFROM:-0500
TZOFFSETTO:-0500
TZNAME:-05
DTSTART:20240101T000000
END:STANDARD
END:VTIMEZONE
BEGIN:VEVENT
DTSTART;VALUE=DATE:20251011
DTEND;VALUE=DATE:20251014
DTSTAMP:20260422T045641
CREATED:20250616T215634Z
LAST-MODIFIED:20250804T130306Z
UID:4251-1760140800-1760399999@www.escuelagelva.com
SUMMARY:Conversatorio con el Maestro Gelva. Tema: La Ley del Uno
DESCRIPTION:Los Conversatorios con el Maestro Gelva son una serie de reuniones mensuales y presenciales\, donde el Maestro Gelva comparte su sabiduría\, experiencia y entendimiento sobre diversos temas relacionados con la espiritualidad\, el crecimiento personal\, la salud\, el mundo como lo percibimos\, la sanación\, entre otros. \nPara esta ocasión\, hablaremos de La ley del uno.\n\n¡Un conversatorio de autoconocimiento y conexión espiritual!Una experiencia transformadora donde exploraremos profundas enseñanzas espirituales que nos guían hacia la comprensión de la unidad\, el amor y el propósito de nuestra existencia. \n\n¿De que hablaremos?\n\nLa Unidad de Todo\, el Interser.\nEl Libre Albedrío y la dualidad.\nLa Conciencia.\nEl Amor\nPrácticas Espirituales\n\nY más \nY además:\n\nEspacio para preguntas desde el corazón.\nConexión cálida con los demás asistentes\, estudiantes\, pacientes y terapeutas de la Escuela.\nOportunidad de seguir profundizando en nuestra Escuela\n\n\n\n\n\n \nEstos conversatorios están abiertos a todas las personas interesadas en profundizar en estos temas\, aprender de su experiencia\, transformar su realidad y sanar con su palabra. \n\n\n \nLugar\n\n\n \nEscuela Gelva en Bochalema \n\n\n \nIncluye\n\n\n \n\nAlojamiento (acomodación múltiple separados por géneros)\,\n\n\n\nAlimentación completa (vegetariana)\,\n\n\n\nActividades propias del retiro.
URL:https://www.escuelagelva.com/evento/conversatorio-con-el-maestro-gelva-tema-la-ley-del-uno/
LOCATION:Escuela de Transformación Interior Gelva\, Carrera 4 Km 1.6 vía rural a Cristo Rey\, Bochalema\, Norte de Santander\, Colombia
CATEGORIES:Conversatorios,Tao
ATTACH;FMTTYPE=image/jpeg:https://www.escuelagelva.com/wp-content/uploads/conversatorios-con-el-Maestro_clases-de-filosofia-y-espiritualidad-la-ley-del-uno-escuela-gelva.jpg
END:VEVENT
END:VCALENDAR