
BEGIN:VCALENDAR
VERSION:2.0
PRODID:-//Escuela de Transformación Interior Gelva - ECPv6.15.13.1//NONSGML v1.0//EN
CALSCALE:GREGORIAN
METHOD:PUBLISH
X-WR-CALNAME:Escuela de Transformación Interior Gelva
X-ORIGINAL-URL:https://www.escuelagelva.com
X-WR-CALDESC:Eventos para Escuela de Transformación Interior Gelva
REFRESH-INTERVAL;VALUE=DURATION:PT1H
X-Robots-Tag:noindex
X-PUBLISHED-TTL:PT1H
BEGIN:VTIMEZONE
TZID:America/Bogota
BEGIN:STANDARD
TZOFFSETFROM:-0500
TZOFFSETTO:-0500
TZNAME:-05
DTSTART:20240101T000000
END:STANDARD
END:VTIMEZONE
BEGIN:VEVENT
DTSTART;VALUE=DATE:20251212
DTEND;VALUE=DATE:20251215
DTSTAMP:20260420T030757
CREATED:20250618T002220Z
LAST-MODIFIED:20250618T002220Z
UID:4277-1765497600-1765756799@www.escuelagelva.com
SUMMARY:Conversatorio con el Maestro Gelva. Tema: Electricidad y los campos magnéticos humanos
DESCRIPTION:Los Conversatorios con el Maestro Gelva son una serie de reuniones mensuales y presenciales\, donde el Maestro Gelva comparte su sabiduría\, experiencia y entendimiento sobre diversos temas relacionados con la espiritualidad\, el crecimiento personal\, la salud\, el mundo como lo percibimos\, la sanación\, entre otros. \nPara esta ocasión\, hablaremos de la Electricidad y los campos magnéticos humanos.\nLa ciencia del aura\, la vibración y el poder invisible que generamos\, manifestamos y somos \n¿De qué se trata este conversatorio?\n\nSomos energía\, y aunque no lo veamos\, o sintamos cada órgano\, fluido\, extremidad o parte de tu cuerpo que al moverse o funcionar\, no genere un Biocampo\, una onda\, una vibración\, un movimiento energético\, asi mismo cada pensamiento\, cada emoción que sostienes\, y cada decisión que tomas genera\, modifica y atrae sobre tu campo eléctrico otros campos\, corrientes sutiles y pulsos. \n\nEn este conversatorio\, hablaremos del campo magnético humano\, cómo se forma\, cómo se debilita y cómo recuperarlo para sanar el cuerpo\, estabilizar las emociones y despertar la conciencia\, y junto a él\, explicaremos el Aura\, sus componentes y la naturaleza humana \n¿A quién va dirigido?\n\nA quienes intuyen que somos más que carne y huesos.\nA terapeutas\, sanadores\, trabajadores de la luz\, profesionales de la salud y buscadores que desean comprender la dimensión energética del ser humano desde una mirada espiritual… pero práctica.\n\n¿Qué te llevarás?\n\nUna comprensión clara sobre cómo se generan los campos electromagnéticos del cuerpo humano.\nEjercicios sencillos para fortalecer tu aura.\nUna explicación del aura como extensión de la conciencia.\n\nY más \nY además:\n\nEspacio para preguntas desde el corazón.\nConexión cálida con los demás asistentes\, estudiantes\, pacientes y terapeutas de la Escuela.\nOportunidad de seguir profundizando en nuestra Escuela\n\n\n\n\n\n \nEstos conversatorios están abiertos a todas las personas interesadas en profundizar en estos temas\, aprender de su experiencia\, transformar su realidad y sanar con su palabra. \n\n\n \nLugar\n\n\n \nEscuela Gelva en Bochalema \n\n\n \nIncluye\n\n\n \n\nAlojamiento (acomodación múltiple separados por géneros)\,\n\n\n\nAlimentación completa (vegetariana)\,\n\n\n\nActividades propias del retiro.
URL:https://www.escuelagelva.com/evento/conversatorio-con-el-maestro-gelva-tema-electricidad-y-los-campos-magneticos-humanos/
LOCATION:Escuela de Transformación Interior Gelva\, Carrera 4 Km 1.6 vía rural a Cristo Rey\, Bochalema\, Norte de Santander\, Colombia
CATEGORIES:Conversatorios,Tao
ATTACH;FMTTYPE=image/jpeg:https://www.escuelagelva.com/wp-content/uploads/conversatorios-con-el-Maestro_clases-de-filosofia-y-espiritualidad-Electricidad-y-los-campos-magneticos-humanos-escuela-gelva.jpg
END:VEVENT
END:VCALENDAR