
BEGIN:VCALENDAR
VERSION:2.0
PRODID:-//Escuela de Transformación Interior Gelva - ECPv6.15.13.1//NONSGML v1.0//EN
CALSCALE:GREGORIAN
METHOD:PUBLISH
X-WR-CALNAME:Escuela de Transformación Interior Gelva
X-ORIGINAL-URL:https://www.escuelagelva.com
X-WR-CALDESC:Eventos para Escuela de Transformación Interior Gelva
REFRESH-INTERVAL;VALUE=DURATION:PT1H
X-Robots-Tag:noindex
X-PUBLISHED-TTL:PT1H
BEGIN:VTIMEZONE
TZID:America/Bogota
BEGIN:STANDARD
TZOFFSETFROM:-0500
TZOFFSETTO:-0500
TZNAME:-05
DTSTART:20240101T000000
END:STANDARD
END:VTIMEZONE
BEGIN:VEVENT
DTSTART;TZID=America/Bogota:20250303T053000
DTEND;TZID=America/Bogota:20250331T193000
DTSTAMP:20260422T091448
CREATED:20250128T194741Z
LAST-MODIFIED:20250221T221325Z
UID:3462-1740979800-1743449400@www.escuelagelva.com
SUMMARY:Clases Online de Educación Continuada de marzo
DESCRIPTION:Descubre mes a mes\, un Camino hacia la Salud y la elevación de la Consciencia con la Escuela GelvaCreemos en el poder de la educación continuada para afianzar la disciplina y el compromiso con tu bienestar. A través de prácticas diarias y reflexiones profundas\, te invitamos a cultivar tu bienestar físico\, mental\, emocional y espiritual. \n\n\n\nClases de Lunes a Viernes\n\n\n\n🌀 Chi Kung Básico para la SaludHorario: 5:20 a.m. - 5:50 a.m.COLSesiones en vivo y en directo. \n\n\n\nClases de espiritualidad los Martes y Jueves\n\n\n\n🌟Diversos temas de espiritualidad Práctica y Elevación de la Consciencia.Horario: 6:45 p.m. - 7:45 p.m.COL¡Haz parte de esta experiencia transformadora y eleva tu calidad de vida con nosotros! \n\n\n\nPlataforma: Meet (Las clases no serán grabadas) Esto fomentara la responsabilidad y el compromiso en cada clase.😁 \n\n\n\nINSCRIPCIONES ABIERTAS Escríbenos para enviarte los detalles de la cuenta \n\n\n\nLOS RESPONSABLES GOZAMOS MÁS💙 \n\n\n\n 
URL:https://www.escuelagelva.com/evento/clases-online-de-educacion-continuada-de-marzo/
LOCATION:norte de santander
CATEGORIES:Educación continuada,online
ATTACH;FMTTYPE=image/jpeg:https://www.escuelagelva.com/wp-content/uploads/clases-virtuales-de-educacion-continuada_desarrollo-del-ser_escuela-gelva2.jpg
END:VEVENT
BEGIN:VEVENT
DTSTART;VALUE=DATE:20250314
DTEND;VALUE=DATE:20250317
DTSTAMP:20260422T091448
CREATED:20250201T192725Z
LAST-MODIFIED:20250226T134057Z
UID:3567-1741910400-1742169599@www.escuelagelva.com
SUMMARY:Conversatorio con el Maestro Gelva. Tema: Los 12 trabajos del Alma
DESCRIPTION:Los Conversatorios con el Maestro Gelva son una serie de reuniones mensuales y presenciales\, donde el Maestro Gelva comparte su sabiduría\, experiencia y entendimiento sobre diversos temas relacionados con la espiritualidad\, el crecimiento personal\, la salud\, el mundo como lo percibimos\, la sanación\, entre otros. \n\n\n\nEn este conversatorio\, se explorará "Los 12 Trabajos del Alma". Aprendizajes que el alma humana debe superar para alcanzar la iluminación y la realización espiritual. Los asistentes podrán comprender la naturaleza de cada uno de los 12 trabajos y cómo se relacionan con su propio camino espiritual. Los 12 desafíos\, van desde la superación del ego y la vanidad hasta la aceptación de la muerte y la transformación. El Maestro Gelva\, ofrece una oportunidad para reflexionar sobre los propios desafíos y limitaciones\, y enseña estrategias y herramientas para superarlos. \nÚnete a nosotros para comprender cómo estos conceptos se relacionan y cómo podemos co-crear un mundo más justo y equitativo. \n\n\n\n\n\nEstos conversatorios están abiertos a todas las personas interesadas en profundizar en estos temas\, aprender de su experiencia\, transformar su realidad y sanar con su palabra. \n\n\n\nLugar\n\n\n\nEscuela Gelva en Bochalema \n\n\n\nIncluye\n\n\n\n\nAlojamiento (acomodación múltiple separados por géneros)\,\n\n\n\nAlimentación completa (vegetariana)\,\n\n\n\nActividades propias del retiro.\n\n\n\n\n 
URL:https://www.escuelagelva.com/evento/conversatorio-con-el-maestro-gelva-tema-los-12-trabajos-del-alma/
LOCATION:Escuela de Transformación Interior Gelva\, Carrera 4 Km 1.6 vía rural a Cristo Rey\, Bochalema\, Norte de Santander\, Colombia
CATEGORIES:Conversatorios
ATTACH;FMTTYPE=image/jpeg:https://www.escuelagelva.com/wp-content/uploads/lases-virtuales-de-educacion-continuada_desarrollo-del-ser_escuela-gelva2.jpg
END:VEVENT
END:VCALENDAR