
BEGIN:VCALENDAR
VERSION:2.0
PRODID:-//Escuela de Transformación Interior Gelva - ECPv6.15.13.1//NONSGML v1.0//EN
CALSCALE:GREGORIAN
METHOD:PUBLISH
X-ORIGINAL-URL:https://www.escuelagelva.com
X-WR-CALDESC:Eventos para Escuela de Transformación Interior Gelva
REFRESH-INTERVAL;VALUE=DURATION:PT1H
X-Robots-Tag:noindex
X-PUBLISHED-TTL:PT1H
BEGIN:VTIMEZONE
TZID:America/Bogota
BEGIN:STANDARD
TZOFFSETFROM:-0500
TZOFFSETTO:-0500
TZNAME:-05
DTSTART:20240101T000000
END:STANDARD
END:VTIMEZONE
BEGIN:VEVENT
DTSTART;TZID=America/Bogota:20250203T053000
DTEND;TZID=America/Bogota:20250228T193000
DTSTAMP:20260422T102443
CREATED:20250128T194332Z
LAST-MODIFIED:20250221T221340Z
UID:3460-1738560600-1740771000@www.escuelagelva.com
SUMMARY:Clases Online de Educación Continuada de febrero
DESCRIPTION:Descubre mes a mes\, un Camino hacia la Salud y la elevación de la Consciencia con la Escuela GelvaCreemos en el poder de la educación continuada para afianzar la disciplina y el compromiso con tu bienestar. A través de prácticas diarias y reflexiones profundas\, te invitamos a cultivar tu bienestar físico\, mental\, emocional y espiritual. \n\n\n\nClases de Lunes a Viernes\n\n\n\n🌀 Chi Kung Básico para la SaludHorario: 5:20 a.m. - 5:50 a.m.COLSesiones en vivo y en directo. \n\n\n\nClases de espiritualidad los Martes y Jueves\n\n\n\n🌟Diversos temas de espiritualidad Práctica y Elevación de la Consciencia.Horario: 6:45 p.m. - 7:45 p.m.COL¡Haz parte de esta experiencia transformadora y eleva tu calidad de vida con nosotros! \n\n\n\nPlataforma: Meet (Las clases no serán grabadas) Esto fomentara la responsabilidad y el compromiso en cada clase.😁 \n\n\n\nINSCRIPCIONES ABIERTAS Escríbenos para enviarte los detalles de la cuenta \n\n\n\nLOS RESPONSABLES GOZAMOS MÁS💙 \n\n\n\n 
URL:https://www.escuelagelva.com/evento/clases-online-de-educacion-continuada-de-febrero/
LOCATION:norte de santander
CATEGORIES:Educación continuada,online
ATTACH;FMTTYPE=image/jpeg:https://www.escuelagelva.com/wp-content/uploads/clases-virtuales-de-educacion-continuada_desarrollo-del-ser_escuela-gelva-1.jpg
END:VEVENT
BEGIN:VEVENT
DTSTART;TZID=America/Bogota:20250208T080000
DTEND;TZID=America/Bogota:20250208T160000
DTSTAMP:20260422T102443
CREATED:20250128T231806Z
LAST-MODIFIED:20250311T193648Z
UID:3482-1739001600-1739030400@www.escuelagelva.com
SUMMARY:Taller Online El Poder de la Manifestación
DESCRIPTION:Muchos lo conocen como Ley de atracción\, pero si quieres profundizar en la Anatomía Energética del Ser Humano y usarla como herramienta de elevación de la Consciencia. En el Taller del Poder de la Manifestación; a través del Autoconocimiento\, trabajaremos nuestra Anatomía Energética aceptando nuestra naturaleza. \n\n\n\n\n\n\n\n\n\n\nEstos serán los temas a trabajar:\nA nivel de los Chakras\, desde arriba hacia abajo. \n\nDesde la inspiración hacia la manifestación\nDesde lo inmaterial a lo material\nDesde El creador al cocreador.\nDesde lo no manifiesto a lo manifiesto\nDesde lo intangible a lo tangible\n\nA nivel Áurico \n\nLa Red de energía del alma\nLa conexión con el entorno\nLa emanación de energía\, creadora del vínculo\n\nA nivel de la Mente \n\nEres el ente generador? O el ente ejecutor?\nAl servicio del alma\, del ego\, o del espíritu?\n\nA nivel de las Emociones \n\nEl combustible o alimento de creación.\n""Emotion” energía en movimiento.\n\n\n\n\n\n\n\n\n\n\n\n\nMetodología: VirtualPlataforma usada: Meet \n\n\n\nHorario de clases grupal: De 8 am a 11:30 am y 1 pm a 4 pm
URL:https://www.escuelagelva.com/evento/poder-manifestacion-ley-de-atraccion/
LOCATION:norte de santander
CATEGORIES:Manifestación,online
ATTACH;FMTTYPE=image/jpeg:https://www.escuelagelva.com/wp-content/uploads/curso-el-poder-de-la-manifestacion_curso-aura-y-abundancia_escuela-gelva2.jpg
END:VEVENT
BEGIN:VEVENT
DTSTART;TZID=America/Bogota:20250209T080000
DTEND;TZID=America/Bogota:20250212T160000
DTSTAMP:20260422T102443
CREATED:20250129T210424Z
LAST-MODIFIED:20250219T001057Z
UID:3509-1739088000-1739376000@www.escuelagelva.com
SUMMARY:Curso Online de Comunicación con los Ángeles Nivel I
DESCRIPTION:Este es un curso diseñado para comprender la angeología\,  los ángeles y sus jerarquías\, desde la mirada de la espiritualidad práctica. Entendiendo el proceso de la elevación de la consciencia como para favorecer la salud y la felicidad. Reflexionaremos sobre la importancia de hacernos responsables de nuestras decisiones\, pensamientos y emociones del día a día\, para que siempre estén dirigidas hacia mi bienestar y al bienestar de todos los que me rodean. \nTrataremos temas como:\n\n¿Qué es un Ángel y su nivel de consciencia?\nConociendo nuestra Anatomía Energética\n¿Cuáles son las Jerarquías?\n¿Quién es el ángel de la guarda? ¿Cómo alcanzar su nivel de Consciencia?\nEntendiendo las jerarquías angélicas como Niveles de Consciencia\n¿Cómo ayudamos a los ángeles a ayudarnos?\nHerramientas de comunicación:\nSeñales numéricas\nMensajes en los sueños\nPsicometría\nManejo de las cartas angélicas\nEscritura automática
URL:https://www.escuelagelva.com/evento/curso-online-de-comunicacion-con-los-angeles-nivel-i/
LOCATION:Escuela de Transformación Interior Gelva\, Carrera 4 Km 1.6 vía rural a Cristo Rey\, Bochalema\, Norte de Santander\, Colombia
CATEGORIES:ángeles,online
ATTACH;FMTTYPE=image/jpeg:https://www.escuelagelva.com/wp-content/uploads/Curso-de-Comunicacion-con-los-Angeles-angeleologia-escuela-gelva3.jpg
END:VEVENT
BEGIN:VEVENT
DTSTART;VALUE=DATE:20250215
DTEND;VALUE=DATE:20250217
DTSTAMP:20260422T102443
CREATED:20250129T211533Z
LAST-MODIFIED:20250311T200230Z
UID:3512-1739577600-1739750399@www.escuelagelva.com
SUMMARY:Taller Detox 4 x 4 en Medellín
DESCRIPTION:Si comemos todos los días (3 o más veces al día)\, si bebemos agua diariamente\, si nos bañamos diariamente\, si hacemos ejercicio con frecuencia\, si tenemos contacto con nuestros seres amados ¿por qué nos enfermamos? La respuesta está en que los mecanismos de desintoxicación natural de nuestros cuerpos físicos\, mentales\, emocionales y espirituales NO dan abasto\, no son suficientes para contrarrestar la cantidad desmedida de exo-toxinas y endo-toxinas a los cuales estamos expuestos a cada instante. ¡Haz un Detox! \nPor esta y muchas más razones es necesario cada cierto tiempo darle un apoyo adicional a cada dimensión de nuestro SER\, con métodos de desintoxicación intensiva y acelerada para que logre retomar el equilibrio\, la homeostasis natural de nuestros cuerpos\, y así se restablezca la salud integral y se prevengan futuras dolencias. \nEn este taller aprenderás\n\nTécnicas sencillas y muy efectivas para lograr en poco tiempo una desintoxicación profunda en las cuatro dimensiones de tu Ser: Cuerpo\, Mente\, Emociones y Espíritu.\nMonodietas\nAyunos\nBatidos\nEl Perdón\nLa Meditación\nentre otros.\n\nEl conocimiento no quedará solo en teoría\, la pondremos en práctica durante el taller\, de tal forma que después puedas guiar a otros en su proceso de desintoxicación desde la experiencia propia. \n¡Apto para mayores de 14 años! \nIncluye\nAlimentación de acuerdo con la temática y entrenamiento
URL:https://www.escuelagelva.com/evento/taller-detox-desintoxicar-medellin/
LOCATION:Casa Nur Medellín\, calle 47 a – 81 -6\, Medellín\, Antioquia\, Colombia
CATEGORIES:alimentación
ATTACH;FMTTYPE=image/jpeg:https://www.escuelagelva.com/wp-content/uploads/Curso-de-desintoxicacion-detox-escuela-gelva.jpg
END:VEVENT
BEGIN:VEVENT
DTSTART;VALUE=DATE:20250214
DTEND;VALUE=DATE:20250217
DTSTAMP:20260422T102443
CREATED:20250129T223711Z
LAST-MODIFIED:20250226T134107Z
UID:3531-1739491200-1739750399@www.escuelagelva.com
SUMMARY:Conversatorio con el Maestro Gelva. Tema: La iluminación
DESCRIPTION:Los Conversatorios con el Maestro Gelva son una serie de reuniones mensuales y presenciales\, donde el Maestro Gelva comparte su sabiduría\, experiencia y entendimiento sobre diversos temas relacionados con la espiritualidad\, el crecimiento personal\, la salud\, el mundo como lo percibimos\, la sanación\, entre otros. \n\n\n\n\nPara esta ocasión\, hablaremos de La Iluminación\, como el reconocimiento de la verdadera naturaleza de la realidad\, un estado de conciencia que trasciende el ego y la dualidad\, donde se comprende que todo es una manifestación de una misma conciencia universal. No es un logro\, sino un despertar a lo que siempre ha sido: la plenitud del ser aquí y ahora.  \nMaestros iluminados\, como Buda o Jesús\, describen este estado como la unión con lo divino\, un amor incondicional que todo lo abarca y una paz que sobrepasa todo entendimiento. ¡Hay más! mucho más. \n\n\n\n\nÚnete a nosotros para comprender cómo estos conceptos se relacionan y cómo podemos co-crear un mundo más justo y equitativo. \n\n\n\n\n\nEstos conversatorios están abiertos a todas las personas interesadas en profundizar en estos temas\, aprender de su experiencia\, transformar su realidad y sanar con su palabra. \n\n\n\nLugar\n\n\n\nEscuela Gelva en Bochalema \n\n\n\nIncluye\n\n\n\n\nAlojamiento (acomodación múltiple separados por géneros)\,\n\n\n\nAlimentación completa (vegetariana)\,\n\n\n\nActividades propias del retiro.\n\n\n\n\n 
URL:https://www.escuelagelva.com/evento/conversatorio-con-el-maestro-gelva-tema-la-iluminacion/
LOCATION:Escuela de Transformación Interior Gelva\, Carrera 4 Km 1.6 vía rural a Cristo Rey\, Bochalema\, Norte de Santander\, Colombia
CATEGORIES:Conversatorios
ATTACH;FMTTYPE=image/jpeg:https://www.escuelagelva.com/wp-content/uploads/lases-virtuales-de-educacion-continuada_desarrollo-del-ser_escuela-gelva2.jpg
END:VEVENT
END:VCALENDAR